BEGIN:VCALENDAR
VERSION:2.0
PRODID:-//eventon.com NONSGML v1.0//EN
CALSCALE:GREGORIAN
METHOD:PUBLISH
BEGIN:VEVENT
UID:69e6b2dee7089
DTSTAMP:20260420T231230Z
DTSTART:20181103T100000Z
DTEND:20181103T170000Z
LOCATION:
SUMMARY:Life Changing Prayer
DESCRIPTION:In De Regisseur wordt op zaterdag 3 en zaterdag 24 november een
  training gegeven over levensveranderend gebed. Deze training wordt gegeven
  met medewerking van Bareld en Ida Barelds. Inschrijven/aanmelden is verpli
 cht. Kijk hiervoor op deze site onder 'Berichten'.\nhttps://deregisseurstee
 nwijk.nl/events/life-changing-prayer/
URL:https://deregisseursteenwijk.nl/events/life-changing-prayer/
END:VEVENT
END:VCALENDAR