BEGIN:VCALENDAR
VERSION:2.0
PRODID:-//eventon.com NONSGML v1.0//EN
CALSCALE:GREGORIAN
METHOD:PUBLISH
BEGIN:VEVENT
UID:69eba8ad1f12f
DTSTAMP:20260424T173021Z
DTSTART:20160209
DTEND:20160210
LOCATION:
SUMMARY:Bidden & Vasten
DESCRIPTION:De eerste drie weken in februari zullen we een Bidden & Vasten 
 houden. In deze dagen zullen we met elkaar luisteren naar wat God zegt. We 
 verklaren ons afhankelijk van God. We hebben de 'eenvoudige' opdracht om o
 nze geest open te zetten om te horen wat Hij zegt. voor adres en[..]\nhttps
 ://deregisseursteenwijk.nl/events/bidden-vasten-6/
URL:https://deregisseursteenwijk.nl/events/bidden-vasten-6/
END:VEVENT
END:VCALENDAR